BEGIN:VCALENDAR
VERSION:2.0
PRODID:-//Sabre//Sabre VObject 4.5.0//EN
CALSCALE:GREGORIAN
BEGIN:VEVENT
UID:sabre-vobject-f49fff5f-f910-481c-b16f-decfc9728058
DTSTAMP:20260423T091339Z
LOCATION:Poznań – Warszawa – Wrocław – Berlin – Lublin – Lviv 
 – Rome – Bucharest – Sosnowiec – Kraków – Łódź – Vienna
SUMMARY:Międzynarodowa Konferencja BEYOND LANGUAGE 2026
DESCRIPTION:Tegoroczna konferencja rozwija misję poprzednich edycji\, twor
 ząc przestrzeń do inspirującej wymiany doświadczeń i poglądów na te
 mat potrzeby badań oraz dokumentowania mniejszości językowych\, język
 ów zagrożonych i ginących\, a także związanych z nimi literatur\, kul
 tur\, pidżynów i kreoli. W tym roku rozszerzyliśmy zakres tematyczny ko
 nferencji o zagadnienia z obszaru teologii i epistemologii politycznej i f
 ilozofii religii oraz zapraszamy do otwartej dyskusji\, wymiany doświadcz
 eń\, poglądów i wiedzy nt. nowoczesnych podejść do badań obserwacyjn
 ych i eksperymentalnych z zakresu nauk biologicznych i medycznych..
DTSTART;VALUE=DATE-TIME:20260504T070000Z
DTEND;VALUE=DATE-TIME:20260627T150000Z
END:VEVENT
END:VCALENDAR
